{"text_format":"1","workbook":"xlsx","n_sheets":4,"sheets":["シミュシート(メンテ費用有り)","シミュシート(メンテ費用無し)","基礎データ入力","改訂履歴"],"not_rendered":{"charts":0,"images":1,"macros":1,"external_links":0,"defined_names":4,"comments":0,"pivot_tables":0},"unopened":[],"bounds":{"document_bytes":16777216,"sheet_cells":100000,"rows_first":2000,"rows_last":500,"rows_between":2000,"halvings":0,"cell_chars":16384,"cell_head_chars":4096},"cells_cut":0,"cells_raw":0,"read":"whole","date_system":"1900"}

{"sheet":"シミュシート(メンテ費用有り)","index":0,"n_rows":55,"n_cols":71,"rows_kept":55,"cut":false,"hidden":false,"merged":[[4,11,4,12],[32,8,32,10],[44,21,44,23],[33,8,34,10],[36,11,36,13],[37,11,38,13],[37,8,38,10],[36,8,36,10],[25,7,25,9],[40,8,42,10],[43,8,46,10],[40,11,42,13],[43,11,46,13],[4,0,4,3],[4,5,4,6],[9,4,10,6],[13,0,14,0],[9,0,10,3],[17,4,18,5],[13,1,14,2],[13,5,14,6],[12,5,12,6],[13,3,14,4],[12,1,12,2],[24,0,25,1],[24,2,25,2],[33,2,34,2],[33,4,34,4],[5,0,6,3],[24,4,25,5],[30,3,31,3],[30,5,31,5],[5,5,6,6],[26,3,27,3],[24,6,25,6],[30,1,31,1],[8,0,8,3],[17,0,18,1],[17,2,18,3],[12,3,12,4],[43,0,46,2],[40,3,42,4],[43,3,46,4],[40,5,42,7],[43,5,46,7],[40,0,42,2]]}
[null,null,null,null,null,null,null,null,null,null,null,null,null,null,null,"売電金額パターン","単価","売電年数",null,"北海道（帯広）",null,"地域","1月","2月","3月","4月","5月","6月","7月","8月","9月","10月","11月","12月",null,"角度","下","右","左","上","角度2",null,null,null,{"$f":"+基礎データ入力!Q3","v":"0°"},null,-180,-165,-150,-135,-120,-105,-90,-75,-60,-45,-30,-15,0,15,30,45,60,75,90,105,120,135,150,165,180]
[null,null,null,null,null,null,null,null,null,null,null,null,null,null,null,"2018/10kW未満/赤エリア/税込28円",28,10,null,"北海道（札幌）",null,{"$f":"+F6","v":"東京（東京）"},{"$f":"+VLOOKUP($V2,基礎データ入力!$D$3:$P$49,2,FALSE)","v":120.81666666666666},{"$f":"+VLOOKUP($V2,基礎データ入力!$D$3:$P$49,3,FALSE)","v":119.13055555555556},{"$f":"+VLOOKUP($V2,基礎データ入力!$D$3:$P$49,4,FALSE)","v":131.38055555555556},{"$f":"+VLOOKUP($V2,基礎データ入力!$D$3:$P$49,5,FALSE)","v":142.29166666666666},{"$f":"+VLOOKUP($V2,基礎データ入力!$D$3:$P$49,6,FALSE)","v":136.39444444444445},{"$f":"+VLOOKUP($V2,基礎データ入力!$D$3:$P$49,7,FALSE)","v":108.30833333333334},{"$f":"+VLOOKUP($V2,基礎データ入力!$D$3:$P$49,8,FALSE)","v":131.52777777777777},{"$f":"+VLOOKUP($V2,基礎データ入力!$D$3:$P$49,9,FALSE)","v":122.53888888888888},{"$f":"+VLOOKUP($V2,基礎データ入力!$D$3:$P$49,10,FALSE)","v":99.955555555555549},{"$f":"+VLOOKUP($V2,基礎データ入力!$D$3:$P$49,11,FALSE)","v":101.15277777777777},{"$f":"+VLOOKUP($V2,基礎データ入力!$D$3:$P$49,12,FALSE)","v":91.055555555555557},{"$f":"+VLOOKUP($V2,基礎データ入力!$D$3:$P$49,13,FALSE)","v":99.794444444444437},{"$f":"SUM(W2:AH2)","v":1404.3472222222226},"-90°（東）","真東","真北","真南","真西",-90,null,null,null,{"$f":"+基礎データ入力!Q4","v":"5°"},null,{"$f":"+VLOOKUP($C$34,基礎データ入力!$Q$3:$AP$13,2,FALSE)","v":0.79586007733921449},{"$f":"+VLOOKUP($C$34,基礎データ入力!$Q$3:$AP$13,3,FALSE)","v":0.79828904295194481},{"$f":"+VLOOKUP($C$34,基礎データ入力!$Q$3:$AP$13,4,FALSE)","v":0.80535440546715065},{"$f":"+VLOOKUP($C$34,基礎データ入力!$Q$3:$AP$13,5,FALSE)","v":0.81669023765490101},{"$f":"+VLOOKUP($C$34,基礎データ入力!$Q$3:$AP$13,6,FALSE)","v":0.83125611939117616},{"$f":"+VLOOKUP($C$34,基礎データ入力!$Q$3:$AP$13,7,FALSE)","v":0.84802943241719664},{"$f":"+VLOOKUP($C$34,基礎データ入力!$Q$3:$AP$13,8,FALSE)","v":0.86588272526776977},{"$f":"+VLOOKUP($C$34,基礎データ入力!$Q$3:$AP$13,9,FALSE)","v":0.883763709908716},{"$f":"+VLOOKUP($C$34,基礎データ入力!$Q$3:$AP$13,10,FALSE)","v":0.90019878749517868},{"$f":"+VLOOKUP($C$34,基礎データ入力!$Q$3:$AP$13,11,FALSE)","v":0.91427808491489715},{"$f":"+VLOOKUP($C$34,基礎データ入力!$Q$3:$AP$13,12,FALSE)","v":0.92510953092085091},{"$f":"+VLOOKUP($C$34,基礎データ入力!$Q$3:$AP$13,13,FALSE)","v":0.93183665799649895},{"$f":"+VLOOKUP($C$34,基礎データ入力!$Q$3:$AP$13,14,FALSE)","v":0.93412320868731025},{"$f":"+VLOOKUP($C$34,基礎データ入力!$Q$3:$AP$13,15,FALSE)","v":0.93177929643072599},{"$f":"+VLOOKUP($C$34,基礎データ入力!$Q$3:$AP$13,16,FALSE)","v":0.92508183913047781},{"$f":"+VLOOKUP($C$34,基礎データ入力!$Q$3:$AP$13,17,FALSE)","v":0.91430973267532367},{"$f":"+VLOOKUP($C$34,基礎データ入力!$Q$3:$AP$13,18,FALSE)","v":0.90022252331549846},{"$f":"+VLOOKUP($C$34,基礎データ入力!$Q$3:$AP$13,19,FALSE)","v":0.88371821625310298},{"$f":"+VLOOKUP($C$34,基礎データ入力!$Q$3:$AP$13,20,FALSE)","v":0.8660152502645555},{"$f":"+VLOOKUP($C$34,基礎データ入力!$Q$3:$AP$13,21,FALSE)","v":0.84812239771344933},{"$f":"+VLOOKUP($C$34,基礎データ入力!$Q$3:$AP$13,22,FALSE)","v":0.83132534886710907},{"$f":"+VLOOKUP($C$34,基礎データ入力!$Q$3:$AP$13,23,FALSE)","v":0.81679704884634019},{"$f":"+VLOOKUP($C$34,基礎データ入力!$Q$3:$AP$13,24,FALSE)","v":0.80550077635912298},{"$f":"+VLOOKUP($C$34,基礎データ入力!$Q$3:$AP$13,25,FALSE)","v":0.79836025041290437},{"$f":"+VLOOKUP($C$34,基礎データ入力!$Q$3:$AP$13,26,FALSE)","v":0.79586007733921449}]
[null,null,null,{"$f":"90*(1-C3)","v":90},null,null,null,null,null,null,null,null,null,null,null,"2018/10kW未満/青エリア/税込26円",26,10,null,"青森（青森）",null,null,null,null,null,null,null,null,null,null,null,null,null,null,null,"-75°（南東）","南東","北東","南西","北西",-75,null,null,null,{"$f":"+基礎データ入力!Q5","v":"10°"}]
[null,null,null,null,null,null,null,null,null,null,null,null,null,null,null,"2018/10kW以上/18円+税10%",19.8,20,null,"秋田（秋田）",null,"システム発電量計算結果",null,null,null,null,null,null,null,null,null,null,null,null,null,"-60°（南東）","南東","北東","南西","北西",-60,null,null,null,{"$f":"+基礎データ入力!Q6","v":"15°"}]
["お客様名",null,null,null,null,"地域",null,null,null,null,"起動有効期限","2020-05-31",null,"Ver 2.4.0",null,"2019/10kW未満/赤エリア/税込26円",26,10,null,"岩手（盛岡）",null,"地域","1月","2月","3月","4月","5月","6月","7月","8月","9月","10月","11月","12月",null,"-45°（南東）","南東","北東","南西","北西",-45,null,null,null,{"$f":"+基礎データ入力!Q7","v":"20°"}]
["ABC 様",null,null,null,null,"東京（東京）",null,null,null,null,null,null,null,null,null,"2019/10kW未満/青エリア/税込24円",24,10,null,"山形（山形）",null,{"$f":"+F6","v":"東京（東京）"},{"$f":"+W2*$L$30*$N$30*基礎データ入力!$AX$5*基礎データ入力!$AY$3*基礎データ入力!$AZ$3","v":726.01553458918227},{"$f":"+X2*$L$30*$N$30*基礎データ入力!$AX$5*基礎データ入力!$AY$3*基礎データ入力!$AZ$3","v":715.88329957985627},{"$f":"+Y2*$L$30*$N$30*基礎データ入力!$AX$3*基礎データ入力!$AY$3*基礎データ入力!$AZ$3","v":745.63549579111486},{"$f":"+Z2*$L$30*$N$30*基礎データ入力!$AX$3*基礎データ入力!$AY$3*基礎データ入力!$AZ$3","v":807.56027384188951},{"$f":"+AA2*$L$30*$N$30*基礎データ入力!$AX$3*基礎データ入力!$AY$3*基礎データ入力!$AZ$3","v":774.09125556241008},{"$f":"+AB2*$L$30*$N$30*基礎データ入力!$AX$4*基礎データ入力!$AY$3*基礎データ入力!$AZ$3","v":578.53337030735906},{"$f":"+AC2*$L$30*$N$30*基礎データ入力!$AX$4*基礎データ入力!$AY$3*基礎データ入力!$AZ$3","v":702.56097776547028},{"$f":"+AD2*$L$30*$N$30*基礎データ入力!$AX$4*基礎データ入力!$AY$3*基礎データ入力!$AZ$3","v":654.54646194606039},{"$f":"+AE2*$L$30*$N$30*基礎データ入力!$AX$3*基礎データ入力!$AY$3*基礎データ入力!$AZ$3","v":567.28645961789266},{"$f":"+AF2*$L$30*$N$30*基礎データ入力!$AX$3*基礎データ入力!$AY$3*基礎データ入力!$AZ$3","v":574.0811590425069},{"$f":"+AG2*$L$30*$N$30*基礎データ入力!$AX$3*基礎データ入力!$AY$3*基礎データ入力!$AZ$3","v":516.77551540336049},{"$f":"+AH2*$L$30*$N$30*基礎データ入力!$AX$5*基礎データ入力!$AY$3*基礎データ入力!$AZ$3","v":599.68809710881874},{"$f":"SUM(W6:AH6)","v":7962.6579005559206},"-30°（南東）","南東","北東","南西","北西",-30,null,null,null,{"$f":"+基礎データ入力!Q8","v":"25°"}]
[null,null,null,null,null,null,null,null,null,null,null,null,null,null,null,"2019/10kW以上/14円+税10%",15.4,20,null,"宮城（仙台）",null,null,null,null,null,null,null,null,null,null,null,null,null,null,null,"-15°（南東）","南東","北東","南西","北西",-15,null,null,null,{"$f":"+基礎データ入力!Q9","v":"30°"}]
[null,null,null,null,null,null,null,null,null,null,null,null,null,null,null,"2020/10kW未満/税込21円(委員長案)",21,10,null,"福島（郡山）",null,"お客様名",null,null,null,null,null,null,null,null,null,null,null,null,null,"0°（南）","真南","真東","真西","真北",0,null,null,null,{"$f":"+基礎データ入力!Q10","v":"45°"}]
["売電金額パターン(年度にて指定)",null,null,null,{"$f":"$R$15","v":10},"予想収支合計(税込)",null,null,null,null,null,null,null,null,null,"2020/10kW以上/13円+税10%(委員長案)",14.3,20,null,"新潟（新潟）",null,{"$f":"+A6","v":"ABC 様"},null,null,null,null,null,null,null,null,null,null,null,null,null,"15°（南西）","南西","南東","北西","北東",15,null,null,null,{"$f":"+基礎データ入力!Q11","v":"60°"}]
["2020/10kW未満/税込21円(委員長案)",null,null,null,{"$f":"L44*R15","v":1862158.1591167431},null,null,null,null,null,null,null,null,null,null,null,null,null,null,"長野（飯田）",null,null,null,null,null,null,null,null,null,null,null,null,null,null,null,"30°（南西）","南西","南東","北西","北東",30,null,null,null,{"$f":"+基礎データ入力!Q12","v":"75°"}]
[null,null,null,null,null,null,null,null,null,null,null,null,null,null,null,null,null,null,null,"富山（富山）",null,"地域",null,null,null,null,null,null,null,null,null,null,null,null,null,"45°（南西）","南西","南東","北西","北東",45,null,null,null,{"$f":"+基礎データ入力!Q13","v":"90°"}]
[null,null,null,null,null,null,null,null,null,null,null,null,null,null,null,null,null,null,null,"石川（金沢）",null,{"$f":"+F6","v":"東京（東京）"},null,null,null,null,null,null,null,null,null,null,null,null,null,"60°（南西）","南西","南東","北西","北東",60]
["契約方式","電気消費パターン",null,"買電契約パターン",null,"太陽光発電パネル型番",null,null,null,null,null,null,null,null,null,null,null,null,null,"福井（福井）",null,null,null,null,null,null,null,null,null,null,null,null,null,null,null,"75°（南西）","南西","南東","北西","北東",75]
["余剰","3人以下の住宅",null,"夜間中心契約",null,"SPR-X22-360",null,null,null,null,null,null,null,null,null,"指定結果",null,null,null,"東京（東京）",null,null,null,null,null,null,null,null,null,null,null,null,null,null,null,"90°（西）","真西","真南","真北","真東",90]
[null,null,null,null,null,null,null,null,null,null,null,null,null,null,null,{"$f":"VLOOKUP(A10,P2:R14,1,FALSE)","v":"2020/10kW未満/税込21円(委員長案)"},{"$f":"VLOOKUP(A10,P2:R14,2,FALSE)","v":21},{"$f":"VLOOKUP(A10,P2:R14,3,FALSE)","v":10},null,"神奈川（海老名）"]
[null,null,null,null,null,null,null,null,null,null,null,null,null,null,null,null,null,null,null,"茨城（水戸）"]
["固定買取期間",null,"売電単価",null,"昼間買電平均単価(手入力可能)",null,null,null,null,null,null,null,null,null,null,"自己消費パターン","年間自己消費量",null,null,"栃木（宇都宮）"]
[{"$f":"R15","v":10},null,{"$f":"Q15","v":21},null,{"$f":"Q42","v":40},null,null,null,null,null,null,null,null,null,null,"6人以上又は昼間在宅多い",2000,null,null,"群馬（前橋）"]
[null,null,null,null,null,null,null,null,null,null,null,null,null,null,null,"5人住宅",1800,null,null,"埼玉（さいたま）"]
[null,null,null,null,null,null,null,null,null,null,null,null,null,null,null,"4人住宅",1400,null,null,"千葉（千葉）"]
[null,null,null,null,null,null,null,null,null,null,null,null,null,null,null,"3人以下の住宅",1000,null,null,"山梨（甲府）"]
[null,null,null,null,null,null,null,null,null,null,null,null,null,null,null,"昼不在",800,null,null,"静岡（静岡）"]
["事業認定容量(旧：設備認定容量)",null,null,null,"システム容量",null,null,null,null,null,null,null,null,null,null,"自己消費無し",0,null,null,"岐阜（美濃）"]
["(太陽光出力かパワコンのどちらか低い方)",null,null,null,"(太陽光発電モジュール出力合計)",null,null,null,null,null,"方位","システム容量（kW）",null,"方位・勾配損失",null,null,null,null,null,"愛知（岡崎）"]
[5.9,null,"kW",{"$f":"+VLOOKUP(E34,$AJ$2:$AN$14,5,FALSE)","v":"真北"},{"$f":"SUM(L26:L29)","v":7.92},null,"kW",null,"パネル型式",null,null,"(太陽光発電モジュール出力合計)",null,null,null,"指定結果",null,null,null,"三重（津）"]
[null,null,null,"設置枚数",null,null,null,{"$f":"+F14","v":"SPR-X22-360"},null,null,{"$f":"+D25","v":"真北"},{"$f":"+I29*D27/1000","v":0},null,{"$f":"+HLOOKUP(R31,$AU$1:$BS$2,2,FALSE)","v":0.79586007733921449},null,{"$f":"VLOOKUP(B14,P18:Q23,1,FALSE)","v":"3人以下の住宅"},{"$f":"VLOOKUP(B14,P18:Q23,2,FALSE)","v":1000},null,null,"大阪（大阪）"]
[{"$f":"IF(E9=10,IF(A25<10,\"OK\",\"NG\"),IF(E9=20,IF(A25>=10,\"OK\",\"NG\")))","v":"OK"},null,null,null,null,null,{"$f":"IF(E25<A25,\"NG\",\"OK\")","v":"OK"},null,null,null,{"$f":"+G30","v":"真東"},{"$f":"+I29*F31/1000","v":0},null,{"$f":"+HLOOKUP(R32,$AU$1:$BS$2,2,FALSE)","v":0.86588272526776977},null,null,null,null,null,"滋賀（彦根）"]
[null,null,null,null,null,null,null,null,"モジュール公称最大出力(W)",null,{"$f":"+D37","v":"真南"},{"$f":"+I29*D31/1000","v":7.92},null,{"$f":"+HLOOKUP(R33,$AU$1:$BS$2,2,FALSE)","v":0.93412320868731025},null,null,null,null,null,"奈良（奈良）"]
[null,null,null,null,null,null,null,null,{"$f":"+VLOOKUP(H26,基礎データ入力!$A$3:$B$22,2,FALSE)","v":360},{"$f":"+VLOOKUP(H26,基礎データ入力!A3:C21,3,FALSE)","v":1},{"$f":"+A30","v":"真西"},{"$f":"+I29*B31/1000","v":0},null,{"$f":"+HLOOKUP(R34,$AU$1:$BS$2,2,FALSE)","v":0.8660152502645555},null,null,null,null,null,"和歌山（白浜）"]
[{"$f":"+VLOOKUP(E34,$AJ$2:$AM$14,4,FALSE)","v":"真西"},"設置枚数",null,"設置枚数",null,"設置枚数",{"$f":"+VLOOKUP(E34,$AJ$2:$AL$14,3,FALSE)","v":"真東"},null,null,null,null,{"$f":"SUM(L26:L29)","v":7.92},null,{"$f":"+N26*(L26/L30)+N27*(L27/L30)+N28*(L28/L30)+N29*(L29/L30)","v":0.93412320868731025},null,null,null,"方位",null,"京都（京都）"]
[null,0,null,22,null,0,null,null,null,null,null,null,null,null,null,null,null,{"$f":"+IF(R33-180<-180,(R33-180)+360,R33-180)","v":-180},null,"兵庫（姫路）"]
[null,null,null,null,null,null,null,null,null,null,null,null,null,null,null,null,null,{"$f":"+R33-90","v":-90},null,"岡山（岡山）"]
[null,null,"屋根傾斜角",null,"主方位",null,null,null,"太陽光設置費用材工概算(税込)",null,null,null,null,null,null,null,null,{"$f":"+VLOOKUP(E34,$AJ$2:$AO$14,6,FALSE)","v":0},null,"鳥取（鳥取）"]
[null,null,"10°",null,"0°（南）",null,null,null,1843200,null,null,"材工とは太陽光発電パネル・パワーコンディショナ",null,null,null,null,null,{"$f":"+R33+90","v":90},null,"広島（広島）"]
[null,null,null,null,null,null,null,null,null,null,null,"モニター・金具・配線・屋根材・垂木・足場等を含みます",null,null,null,null,null,null,null,"島根（松江）"]
[null,null,null,null,null,null,null,null,null,null,null,null,null,null,null,null,null,null,null,"山口（山口）"]
[null,null,null,{"$f":"+VLOOKUP(E34,$AJ$2:$AK$14,2,FALSE)","v":"真南"},null,null,null,{"$f":"$R$15","v":10},"太陽光メンテナンス費用概算(税込)",null,null,"太陽光撤去費用材工概算(税込)",null,null,null,null,null,null,null,"徳島（徳島）"]
[null,null,null,null,null,null,null,null,{"$f":"IF(E10*5%<I34*5%,I34*5%,E10*5%)","v":93107.90795583716},null,null,{"$f":"I34*5%","v":92160},null,null,null,"昼間買電金額","買電単価",null,null,"愛媛（松山）"]
[null,null,null,null,null,null,null,null,null,null,null,null,null,null,null,"夜間中心契約",40,null,null,"高知（須崎）"]
["【年間予測発電量・売電予想額】",null,null,null,null,null,null,null,null,null,null,null,null,null,null,"オール電化契約",30,null,null,"福岡（飯塚）"]
["太陽光発電\n年間予想発電量",null,null,{"$f":"IF($A$14=\"全量\",\"昼間に購入する\n年間電力量\",\"太陽光から自家消費する年間電力量\")","v":"太陽光から自家消費する年間電力量"},null,{"$f":"IF($A$14=\"全量\",\"昼間に購入する年間電気代…①\",\"昼間の電気代年間節約額…①\")","v":"昼間の電気代年間節約額…①"},null,null,{"$f":"IF($A$14=\"全量\",\"年間売電予想額…②\",\"余剰売電年間予想額…②\")","v":"余剰売電年間予想額…②"},null,null,{"$f":"IF($A$14=\"全量\",\"年間収支②－①\",\"年間収支①＋②\")","v":"年間収支①＋②"},null,null,null,"従量契約",35,null,null,"佐賀（佐賀）"]
[null,null,null,null,null,null,null,null,null,null,null,null,null,null,null,{"$f":"VLOOKUP(D14,P39:Q41,1,FALSE)","v":"夜間中心契約"},{"$f":"VLOOKUP(D14,P39:Q41,2,FALSE)","v":40},null,null,"長崎（長崎）"]
[null,null,null,null,null,null,null,null,null,null,null,null,null,null,null,null,null,null,null,"大分（大分）"]
[{"$f":"AI6","v":7962.6579005559206},null,null,{"$f":"Q26","v":1000},null,{"$f":"$E$18*D44","v":40000},null,null,{"$f":"IF($A$14=\"全量\",($Q$15*A44),$Q$15*(A44-D44))","v":146215.81591167432},null,null,{"$f":"IF($A$14=\"全量\",I44-F44,F44+I44)","v":186215.81591167432},null,null,null,null,null,null,null,"熊本（熊本）"]
[null,null,null,null,null,null,null,null,null,null,null,null,null,null,null,null,null,null,null,"宮崎（宮崎）",null,"太陽光発電撤去費用概算(税込)"]
[null,null,null,null,null,null,null,null,null,null,null,null,null,null,null,null,null,null,null,"鹿児島（鹿児島）"]
[]
[]
[null,null,null,null,null,null,null,null,null,null,null,null,null,null,null,null,null,175]
["季節自己消費%",0.16,0.08,0.06,0.04,0.04,0.06,0.1,0.12,0.06,0.06,0.08,0.14000000000000001,{"$f":"SUM(B50:M50)","v":1},null,null,null,134]
["下記、今後の課題",null,null,null,null,null,null,null,null,null,null,null,null,null,null,null,null,75]
["・パネル劣化率計算どうする？",null,null,null,null,null,null,null,null,null,null,null,null,null,null,null,null,75]
["・メンテナンス費用の計算は？→ｖ1.8.1で売電収支か設置費用の5%の何れか高い方で計算",null,null,null,null,null,null,null,null,null,null,null,null,null,null,null,null,70]
["・廃棄費用の計算は？→v1.8.1で設置費用の5%として計算",null,null,null,null,null,null,null,null,null,null,null,null,null,null,null,null,70]
["・固定買い取り期間終了後の売電収益計算は？"]

{"sheet":"シミュシート(メンテ費用無し)","index":1,"n_rows":55,"n_cols":71,"rows_kept":55,"cut":false,"hidden":false,"merged":[[9,0,10,3],[9,4,10,6],[4,0,4,3],[4,5,4,6],[5,0,6,3],[5,5,6,6],[8,0,8,3],[17,4,18,5],[24,0,25,1],[24,2,25,2],[24,4,25,5],[12,1,12,2],[12,3,12,4],[12,5,12,6],[13,0,14,0],[13,1,14,2],[13,3,14,4],[13,5,14,6],[44,21,44,23],[32,8,32,10],[33,2,34,2],[33,4,34,4],[33,8,34,10],[36,8,36,10],[36,11,36,13],[43,0,46,2],[43,3,46,4],[43,5,46,7],[43,8,46,10],[43,11,46,13],[4,11,4,12],[40,0,42,2],[40,3,42,4],[40,5,42,7],[40,8,42,10],[40,11,42,13],[37,8,38,10],[37,11,38,13],[24,6,25,6],[25,7,25,9],[26,3,27,3],[30,1,31,1],[30,3,31,3],[30,5,31,5],[17,0,18,1],[17,2,18,3]]}
[null,null,null,null,null,null,null,null,null,null,null,null,null,null,null,"売電金額パターン","単価","売電年数",null,"北海道（帯広）",null,"地域","1月","2月","3月","4月","5月","6月","7月","8月","9月","10月","11月","12月",null,"角度","下","右","左","上","角度2",null,null,null,{"$f":"+基礎データ入力!Q3","v":"0°"},null,-180,-165,-150,-135,-120,-105,-90,-75,-60,-45,-30,-15,0,15,30,45,60,75,90,105,120,135,150,165,180]
[null,null,null,null,null,null,null,null,null,null,null,null,null,null,null,"2018/10kW未満/赤エリア/税込28円",28,10,null,"北海道（札幌）",null,{"$f":"+F6","v":"岡山（岡山）"},{"$f":"+VLOOKUP($V2,基礎データ入力!$D$3:$P$49,2,FALSE)","v":89.419444444444451},{"$f":"+VLOOKUP($V2,基礎データ入力!$D$3:$P$49,3,FALSE)","v":107.13055555555556},{"$f":"+VLOOKUP($V2,基礎データ入力!$D$3:$P$49,4,FALSE)","v":122.18888888888888},{"$f":"+VLOOKUP($V2,基礎データ入力!$D$3:$P$49,5,FALSE)","v":139.03888888888889},{"$f":"+VLOOKUP($V2,基礎データ入力!$D$3:$P$49,6,FALSE)","v":156.18333333333334},{"$f":"+VLOOKUP($V2,基礎データ入力!$D$3:$P$49,7,FALSE)","v":128.66388888888889},{"$f":"+VLOOKUP($V2,基礎データ入力!$D$3:$P$49,8,FALSE)","v":151.4361111111111},{"$f":"+VLOOKUP($V2,基礎データ入力!$D$3:$P$49,9,FALSE)","v":158.86388888888888},{"$f":"+VLOOKUP($V2,基礎データ入力!$D$3:$P$49,10,FALSE)","v":125.82222222222221},{"$f":"+VLOOKUP($V2,基礎データ入力!$D$3:$P$49,11,FALSE)","v":122.68888888888888},{"$f":"+VLOOKUP($V2,基礎データ入力!$D$3:$P$49,12,FALSE)","v":97.469444444444434},{"$f":"+VLOOKUP($V2,基礎データ入力!$D$3:$P$49,13,FALSE)","v":94.575000000000003},{"$f":"SUM(W2:AH2)","v":1493.4805555555556},"-90°（東）","真東","真北","真南","真西",-90,null,null,null,{"$f":"+基礎データ入力!Q4","v":"5°"},null,{"$f":"+VLOOKUP($C$34,基礎データ入力!$Q$3:$AP$13,2,FALSE)","v":0.79586007733921449},{"$f":"+VLOOKUP($C$34,基礎データ入力!$Q$3:$AP$13,3,FALSE)","v":0.79828904295194481},{"$f":"+VLOOKUP($C$34,基礎データ入力!$Q$3:$AP$13,4,FALSE)","v":0.80535440546715065},{"$f":"+VLOOKUP($C$34,基礎データ入力!$Q$3:$AP$13,5,FALSE)","v":0.81669023765490101},{"$f":"+VLOOKUP($C$34,基礎データ入力!$Q$3:$AP$13,6,FALSE)","v":0.83125611939117616},{"$f":"+VLOOKUP($C$34,基礎データ入力!$Q$3:$AP$13,7,FALSE)","v":0.84802943241719664},{"$f":"+VLOOKUP($C$34,基礎データ入力!$Q$3:$AP$13,8,FALSE)","v":0.86588272526776977},{"$f":"+VLOOKUP($C$34,基礎データ入力!$Q$3:$AP$13,9,FALSE)","v":0.883763709908716},{"$f":"+VLOOKUP($C$34,基礎データ入力!$Q$3:$AP$13,10,FALSE)","v":0.90019878749517868},{"$f":"+VLOOKUP($C$34,基礎データ入力!$Q$3:$AP$13,11,FALSE)","v":0.91427808491489715},{"$f":"+VLOOKUP($C$34,基礎データ入力!$Q$3:$AP$13,12,FALSE)","v":0.92510953092085091},{"$f":"+VLOOKUP($C$34,基礎データ入力!$Q$3:$AP$13,13,FALSE)","v":0.93183665799649895},{"$f":"+VLOOKUP($C$34,基礎データ入力!$Q$3:$AP$13,14,FALSE)","v":0.93412320868731025},{"$f":"+VLOOKUP($C$34,基礎データ入力!$Q$3:$AP$13,15,FALSE)","v":0.93177929643072599},{"$f":"+VLOOKUP($C$34,基礎データ入力!$Q$3:$AP$13,16,FALSE)","v":0.92508183913047781},{"$f":"+VLOOKUP($C$34,基礎データ入力!$Q$3:$AP$13,17,FALSE)","v":0.91430973267532367},{"$f":"+VLOOKUP($C$34,基礎データ入力!$Q$3:$AP$13,18,FALSE)","v":0.90022252331549846},{"$f":"+VLOOKUP($C$34,基礎データ入力!$Q$3:$AP$13,19,FALSE)","v":0.88371821625310298},{"$f":"+VLOOKUP($C$34,基礎データ入力!$Q$3:$AP$13,20,FALSE)","v":0.8660152502645555},{"$f":"+VLOOKUP($C$34,基礎データ入力!$Q$3:$AP$13,21,FALSE)","v":0.84812239771344933},{"$f":"+VLOOKUP($C$34,基礎データ入力!$Q$3:$AP$13,22,FALSE)","v":0.83132534886710907},{"$f":"+VLOOKUP($C$34,基礎データ入力!$Q$3:$AP$13,23,FALSE)","v":0.81679704884634019},{"$f":"+VLOOKUP($C$34,基礎データ入力!$Q$3:$AP$13,24,FALSE)","v":0.80550077635912298},{"$f":"+VLOOKUP($C$34,基礎データ入力!$Q$3:$AP$13,25,FALSE)","v":0.79836025041290437},{"$f":"+VLOOKUP($C$34,基礎データ入力!$Q$3:$AP$13,26,FALSE)","v":0.79586007733921449}]
[null,null,null,{"$f":"90*(1-C3)","v":90},null,null,null,null,null,null,null,null,null,null,null,"2018/10kW未満/青エリア/税込26円",26,10,null,"青森（青森）",null,null,null,null,null,null,null,null,null,null,null,null,null,null,null,"-75°（南東）","南東","北東","南西","北西",-75,null,null,null,{"$f":"+基礎データ入力!Q5","v":"10°"}]
[null,null,null,null,null,null,null,null,null,null,null,null,null,null,null,"2018/10kW以上/18円+税10%",19.8,20,null,"秋田（秋田）",null,"システム発電量計算結果",null,null,null,null,null,null,null,null,null,null,null,null,null,"-60°（南東）","南東","北東","南西","北西",-60,null,null,null,{"$f":"+基礎データ入力!Q6","v":"15°"}]
["お客様名",null,null,null,null,"地域",null,null,null,null,"起動有効期限",{"$f":"'シミュシート(メンテ費用有り)'!L5:M5","v":"2020-05-31"},null,{"$f":"'シミュシート(メンテ費用有り)'!N5","v":"Ver 2.4.0"},null,"2019/10kW未満/赤エリア/税込26円",26,10,null,"岩手（盛岡）",null,"地域","1月","2月","3月","4月","5月","6月","7月","8月","9月","10月","11月","12月",null,"-45°（南東）","南東","北東","南西","北西",-45,null,null,null,{"$f":"+基礎データ入力!Q7","v":"20°"}]
["ABC 様",null,null,null,null,"岡山（岡山）",null,null,null,null,null,null,null,null,null,"2019/10kW未満/青エリア/税込24円",24,10,null,"山形（山形）",null,{"$f":"+F6","v":"岡山（岡山）"},{"$f":"+W2*$L$30*$N$30*基礎データ入力!$AX$5*基礎データ入力!$AY$3*基礎データ入力!$AZ$3","v":488.49300162531028},{"$f":"+X2*$L$30*$N$30*基礎データ入力!$AX$5*基礎データ入力!$AY$3*基礎データ入力!$AZ$3","v":585.2477274295095},{"$f":"+Y2*$L$30*$N$30*基礎データ入力!$AX$3*基礎データ入力!$AY$3*基礎データ入力!$AZ$3","v":630.42657306459103},{"$f":"+Z2*$L$30*$N$30*基礎データ入力!$AX$3*基礎データ入力!$AY$3*基礎データ入力!$AZ$3","v":717.36318287203414},{"$f":"+AA2*$L$30*$N$30*基礎データ入力!$AX$3*基礎データ入力!$AY$3*基礎データ入力!$AZ$3","v":805.8189619243816},{"$f":"+AB2*$L$30*$N$30*基礎データ入力!$AX$4*基礎データ入力!$AY$3*基礎データ入力!$AZ$3","v":624.78490792202774},{"$f":"+AC2*$L$30*$N$30*基礎データ入力!$AX$4*基礎データ入力!$AY$3*基礎データ入力!$AZ$3","v":735.3655913380079},{"$f":"+AD2*$L$30*$N$30*基礎データ入力!$AX$4*基礎データ入力!$AY$3*基礎データ入力!$AZ$3","v":771.4344797808393},{"$f":"+AE2*$L$30*$N$30*基礎データ入力!$AX$3*基礎データ入力!$AY$3*基礎データ入力!$AZ$3","v":649.17254827529598},{"$f":"+AF2*$L$30*$N$30*基礎データ入力!$AX$3*基礎データ入力!$AY$3*基礎データ入力!$AZ$3","v":633.00629442386241},{"$f":"+AG2*$L$30*$N$30*基礎データ入力!$AX$3*基礎データ入力!$AY$3*基礎データ入力!$AZ$3","v":502.88801541928325},{"$f":"+AH2*$L$30*$N$30*基礎データ入力!$AX$5*基礎データ入力!$AY$3*基礎データ入力!$AZ$3","v":516.65748893594298},{"$f":"SUM(W6:AH6)","v":7660.6587730110859},"-30°（南東）","南東","北東","南西","北西",-30,null,null,null,{"$f":"+基礎データ入力!Q8","v":"25°"}]
[null,null,null,null,null,null,null,null,null,null,null,null,null,null,null,"2019/10kW以上/14円+税10%",15.4,20,null,"宮城（仙台）",null,null,null,null,null,null,null,null,null,null,null,null,null,null,null,"-15°（南東）","南東","北東","南西","北西",-15,null,null,null,{"$f":"+基礎データ入力!Q9","v":"30°"}]
[null,null,null,null,null,null,null,null,null,null,null,null,null,null,null,"2020/10kW未満/税込21円(委員長案)",21,10,null,"福島（郡山）",null,"お客様名",null,null,null,null,null,null,null,null,null,null,null,null,null,"0°（南）","真南","真東","真西","真北",0,null,null,null,{"$f":"+基礎データ入力!Q10","v":"45°"}]
["売電金額パターン(年度にて指定)",null,null,null,{"$f":"$R$15","v":10},"予想収支合計(税込)",null,null,null,null,null,null,null,null,null,"2020/10kW以上/13円+税10%(委員長案)",14.3,20,null,"新潟（新潟）",null,{"$f":"+A6","v":"ABC 様"},null,null,null,null,null,null,null,null,null,null,null,null,null,"15°（南西）","南西","南東","北西","北東",15,null,null,null,{"$f":"+基礎データ入力!Q11","v":"60°"}]
["2020/10kW未満/税込21円(委員長案)",null,null,null,{"$f":"L44*R15","v":1874738.342332328},null,null,null,null,null,null,null,null,null,null,null,null,null,null,"長野（飯田）",null,null,null,null,null,null,null,null,null,null,null,null,null,null,null,"30°（南西）","南西","南東","北西","北東",30,null,null,null,{"$f":"+基礎データ入力!Q12","v":"75°"}]
[null,null,null,null,null,null,null,null,null,null,null,null,null,null,null,null,null,null,null,"富山（富山）",null,"地域",null,null,null,null,null,null,null,null,null,null,null,null,null,"45°（南西）","南西","南東","北西","北東",45,null,null,null,{"$f":"+基礎データ入力!Q13","v":"90°"}]
[null,null,null,null,null,null,null,null,null,null,null,null,null,null,null,null,null,null,null,"石川（金沢）",null,{"$f":"+F6","v":"岡山（岡山）"},null,null,null,null,null,null,null,null,null,null,null,null,null,"60°（南西）","南西","南東","北西","北東",60]
["契約方式","電気消費パターン",null,"買電契約パターン",null,"太陽光発電パネル型番",null,null,null,null,null,null,null,null,null,null,null,null,null,"福井（福井）",null,null,null,null,null,null,null,null,null,null,null,null,null,null,null,"75°（南西）","南西","南東","北西","北東",75]
["余剰","4人住宅",null,"夜間中心契約",null,"SPR-X22-360",null,null,null,null,null,null,null,null,null,"指定結果",null,null,null,"東京（東京）",null,null,null,null,null,null,null,null,null,null,null,null,null,null,null,"90°（西）","真西","真南","真北","真東",90]
[null,null,null,null,null,null,null,null,null,null,null,null,null,null,null,{"$f":"VLOOKUP(A10,P2:R14,1,FALSE)","v":"2020/10kW未満/税込21円(委員長案)"},{"$f":"VLOOKUP(A10,P2:R14,2,FALSE)","v":21},{"$f":"VLOOKUP(A10,P2:R14,3,FALSE)","v":10},null,"神奈川（海老名）"]
[null,null,null,null,null,null,null,null,null,null,null,null,null,null,null,null,null,null,null,"茨城（水戸）"]
["固定買取期間",null,"売電単価",null,"昼間買電平均単価(手入力可能)",null,null,null,null,null,null,null,null,null,null,"自己消費パターン","年間自己消費量",null,null,"栃木（宇都宮）"]
[{"$f":"R15","v":10},null,{"$f":"Q15","v":21},null,{"$f":"Q42","v":40},null,null,null,null,null,null,null,null,null,null,"6人以上又は昼間在宅多い",2000,null,null,"群馬（前橋）"]
[null,null,null,null,null,null,null,null,null,null,null,null,null,null,null,"5人住宅",1800,null,null,"埼玉（さいたま）"]
[null,null,null,null,null,null,null,null,null,null,null,null,null,null,null,"4人住宅",1400,null,null,"千葉（千葉）"]
[null,null,null,null,null,null,null,null,null,null,null,null,null,null,null,"3人以下の住宅",1000,null,null,"山梨（甲府）"]
[null,null,null,null,null,null,null,null,null,null,null,null,null,null,null,"昼不在",800,null,null,"静岡（静岡）"]
["事業認定容量(旧：設備認定容量)",null,null,null,"システム容量",null,null,null,null,null,null,null,null,null,null,"自己消費無し",0,null,null,"岐阜（美濃）"]
["(太陽光出力かパワコンのどちらか低い方)",null,null,null,"(太陽光発電モジュール出力合計)",null,null,null,null,null,"方位","システム容量（kW）",null,"方位・勾配損失",null,null,null,null,null,"愛知（岡崎）"]
[5.5,null,"kW",{"$f":"+VLOOKUP(E34,$AJ$2:$AN$14,5,FALSE)","v":"真北"},{"$f":"SUM(L26:L29)","v":7.2},null,"kW",null,"パネル型式",null,null,"(太陽光発電モジュール出力合計)",null,null,null,"指定結果",null,null,null,"三重（津）"]
[null,null,null,"設置枚数",null,null,null,{"$f":"+F14","v":"SPR-X22-360"},null,null,{"$f":"+D25","v":"真北"},{"$f":"+I29*D27/1000","v":0},null,{"$f":"+HLOOKUP(R31,$AU$1:$BS$2,2,FALSE)","v":0.79586007733921449},null,{"$f":"VLOOKUP(B14,P18:Q23,1,FALSE)","v":"4人住宅"},{"$f":"VLOOKUP(B14,P18:Q23,2,FALSE)","v":1400},null,null,"大阪（大阪）"]
[{"$f":"IF(E9=10,IF(A25<10,\"OK\",\"NG\"),IF(E9=20,IF(A25>=10,\"OK\",\"NG\")))","v":"OK"},null,null,null,null,null,{"$f":"IF(E25<A25,\"NG\",\"OK\")","v":"OK"},null,null,null,{"$f":"+G30","v":"真東"},{"$f":"+I29*F31/1000","v":0},null,{"$f":"+HLOOKUP(R32,$AU$1:$BS$2,2,FALSE)","v":0.86588272526776977},null,null,null,null,null,"滋賀（彦根）"]
[null,null,null,null,null,null,null,null,"モジュール公称最大出力(W)",null,{"$f":"+D37","v":"真南"},{"$f":"+I29*D31/1000","v":7.2},null,{"$f":"+HLOOKUP(R33,$AU$1:$BS$2,2,FALSE)","v":0.93412320868731025},null,null,null,null,null,"奈良（奈良）"]
[null,null,null,null,null,null,null,null,{"$f":"+VLOOKUP(H26,基礎データ入力!$A$3:$B$22,2,FALSE)","v":360},{"$f":"+VLOOKUP(H26,基礎データ入力!A3:C21,3,FALSE)","v":1},{"$f":"+A30","v":"真西"},{"$f":"+I29*B31/1000","v":0},null,{"$f":"+HLOOKUP(R34,$AU$1:$BS$2,2,FALSE)","v":0.8660152502645555},null,null,null,null,null,"和歌山（白浜）"]
[{"$f":"+VLOOKUP(E34,$AJ$2:$AM$14,4,FALSE)","v":"真西"},"設置枚数",null,"設置枚数",null,"設置枚数",{"$f":"+VLOOKUP(E34,$AJ$2:$AL$14,3,FALSE)","v":"真東"},null,null,null,null,{"$f":"SUM(L26:L29)","v":7.2},null,{"$f":"+N26*(L26/L30)+N27*(L27/L30)+N28*(L28/L30)+N29*(L29/L30)","v":0.93412320868731025},null,null,null,"方位",null,"京都（京都）"]
[null,null,null,20,null,null,null,null,null,null,null,null,null,null,null,null,null,{"$f":"+IF(R33-180<-180,(R33-180)+360,R33-180)","v":-180},null,"兵庫（姫路）"]
[null,null,null,null,null,null,null,null,null,null,null,null,null,null,null,null,null,{"$f":"+R33-90","v":-90},null,"岡山（岡山）"]
[null,null,"屋根傾斜角",null,"主方位",null,null,null,null,null,null,null,null,null,null,null,null,{"$f":"+VLOOKUP(E34,$AJ$2:$AO$14,6,FALSE)","v":0},null,"鳥取（鳥取）"]
[null,null,"10°",null,"0°（南）",null,null,null,null,null,null,null,null,null,null,null,null,{"$f":"+R33+90","v":90},null,"広島（広島）"]
[null,null,null,null,null,null,null,null,null,null,null,null,null,null,null,null,null,null,null,"島根（松江）"]
[null,null,null,null,null,null,null,null,null,null,null,null,null,null,null,null,null,null,null,"山口（山口）"]
[null,null,null,{"$f":"+VLOOKUP(E34,$AJ$2:$AK$14,2,FALSE)","v":"真南"},null,null,null,null,null,null,null,null,null,null,null,null,null,null,null,"徳島（徳島）"]
[null,null,null,null,null,null,null,null,null,null,null,{"$f":"I34*5%","v":0},null,null,null,"昼間買電金額","買電単価",null,null,"愛媛（松山）"]
[null,null,null,null,null,null,null,null,null,null,null,null,null,null,null,"夜間中心契約",40,null,null,"高知（須崎）"]
["【年間予測発電量・売電予想額】",null,null,null,null,null,null,null,null,null,null,null,null,null,null,"オール電化契約",30,null,null,"福岡（飯塚）"]
["太陽光発電\n年間予想発電量",null,null,{"$f":"IF($A$14=\"全量\",\"昼間に購入する\n年間電力量\",\"太陽光から自家消費する年間電力量\")","v":"太陽光から自家消費する年間電力量"},null,{"$f":"IF($A$14=\"全量\",\"昼間に購入する年間電気代…①\",\"昼間の電気代年間節約額…①\")","v":"昼間の電気代年間節約額…①"},null,null,{"$f":"IF($A$14=\"全量\",\"年間売電予想額…②\",\"余剰売電年間予想額…②\")","v":"余剰売電年間予想額…②"},null,null,{"$f":"IF($A$14=\"全量\",\"年間収支②－①\",\"年間収支①＋②\")","v":"年間収支①＋②"},null,null,null,"従量契約",35,null,null,"佐賀（佐賀）"]
[null,null,null,null,null,null,null,null,null,null,null,null,null,null,null,{"$f":"VLOOKUP(D14,P39:Q41,1,FALSE)","v":"夜間中心契約"},{"$f":"VLOOKUP(D14,P39:Q41,2,FALSE)","v":40},null,null,"長崎（長崎）"]
[null,null,null,null,null,null,null,null,null,null,null,null,null,null,null,null,null,null,null,"大分（大分）"]
[{"$f":"AI6","v":7660.6587730110859},null,null,{"$f":"Q26","v":1400},null,{"$f":"$E$18*D44","v":56000},null,null,{"$f":"IF($A$14=\"全量\",($Q$15*A44),$Q$15*(A44-D44))","v":131473.8342332328},null,null,{"$f":"IF($A$14=\"全量\",I44-F44,F44+I44)","v":187473.8342332328},null,null,null,null,null,null,null,"熊本（熊本）"]
[null,null,null,null,null,null,null,null,null,null,null,null,null,null,null,null,null,null,null,"宮崎（宮崎）",null,"太陽光発電撤去費用概算(税込)"]
[null,null,null,null,null,null,null,null,null,null,null,null,null,null,null,null,null,null,null,"鹿児島（鹿児島）"]
[]
[]
[null,null,null,null,null,null,null,null,null,null,null,null,null,null,null,null,null,175]
["季節自己消費%",0.16,0.08,0.06,0.04,0.04,0.06,0.1,0.12,0.06,0.06,0.08,0.14000000000000001,{"$f":"SUM(B50:M50)","v":1},null,null,null,134]
["下記、今後の課題",null,null,null,null,null,null,null,null,null,null,null,null,null,null,null,null,75]
["・パネル劣化率計算どうする？",null,null,null,null,null,null,null,null,null,null,null,null,null,null,null,null,75]
["・メンテナンス費用の計算は？→ｖ1.8.1で売電収支か設置費用の5%の何れか高い方で計算",null,null,null,null,null,null,null,null,null,null,null,null,null,null,null,null,70]
["・廃棄費用の計算は？→v1.8.1で設置費用の5%として計算",null,null,null,null,null,null,null,null,null,null,null,null,null,null,null,null,70]
["・固定買い取り期間終了後の売電収益計算は？"]

{"sheet":"基礎データ入力","index":2,"n_rows":51,"n_cols":52,"rows_kept":51,"cut":false,"hidden":true,"merged":[[2,50,4,50],[2,51,4,51]]}
["太陽電池モジュール仕様値入力",null,null,"地域別日照量データベース",null,null,null,null,null,null,null,null,null,null,null,null,"屋根傾斜角度別出力ロス率データベース",null,null,null,null,null,null,null,null,null,null,null,null,null,null,null,null,null,null,null,null,null,null,null,null,null,"方位リスト",null,null,null,null,null,"ロス率"]
["型式名","出力 (W)","最小直列数","地域","1月","2月","3月","4月","5月","6月","7月","8月","9月","10月","11月","12月","屋根勾配",-180,-165,-150,-135,-120,-105,-90,-75,-60,-45,-30,-15,0,15,30,45,60,75,90,105,120,135,150,165,180,"角度","下","右","左","上","角度2",null,"温度補正","パワコンによるロス","その他損失"]
["SPR-X22-360",360,1,"北海道（帯広）",114.86666666666666,135.60555555555555,176.44444444444446,150.98888888888888,149.49722222222223,150.83888888888887,123.55277777777778,112.83888888888889,117.73888888888889,119.51666666666667,109.88611111111111,101.29444444444445,"0°",0.86941145055531932,0.86941145055531932,0.86941145055531932,0.86941145055531932,0.86941145055531932,0.86941145055531932,0.86941145055531932,0.86941145055531932,0.86941145055531932,0.86941145055531932,0.86941145055531932,0.86941145055531932,0.86941145055531932,0.86941145055531932,0.86941145055531932,0.86941145055531932,0.86941145055531932,0.86941145055531932,0.86941145055531932,0.86941145055531932,0.86941145055531932,0.86941145055531932,0.86941145055531932,0.86941145055531932,0.86941145055531932,"-90°（東）","真東","真北","真南","真西",-90,"3-5月、9-11月",0.85,0.95,0.95]
["LR6-60HPH-320M",320,1,"北海道（札幌）",70.808333333333337,95.441666666666663,131.48333333333332,141.28888888888889,157.03611111111113,152.76388888888889,139.75,139.81944444444446,122.38055555555555,97.98888888888888,73.374999999999986,64.447222222222223,"5°",0.83489956781027164,0.83609031479631701,0.83963881993413314,0.84519695785902904,0.85249374462235317,0.86091798285086985,0.86982287144086323,0.87890775666828203,0.88724496355562588,0.89441515927724424,0.89985461810054101,0.9033536736126907,0.90458398029926912,0.9034327930137569,0.89989813377112737,0.89439142345692446,0.88732012698663876,0.87894533838378841,0.86992572666224921,0.86096545449150952,0.85252539238277969,0.8453097030055482,0.83964870985926632,0.8360863588262637,0.83489956781027164,"-75°（南東）","南東","北東","南西","北西",-75,"6-8月",0.8]
["LR6-60PE-310M",310,1,"青森（青森）",50.738888888888887,80.061111111111117,122.06388888888888,141.89444444444445,154.07499999999999,147.48333333333335,137.86944444444444,142.29444444444445,128.96944444444443,107.00833333333334,69.013888888888886,48.324999999999996,"10°",0.79586007733921449,0.79828904295194481,0.80535440546715065,0.81669023765490101,0.83125611939117616,0.84802943241719664,0.86588272526776977,0.883763709908716,0.90019878749517868,0.91427808491489715,0.92510953092085091,0.93183665799649895,0.93412320868731025,0.93177929643072599,0.92508183913047781,0.91430973267532367,0.90022252331549846,0.88371821625310298,0.8660152502645555,0.84812239771344933,0.83132534886710907,0.81679704884634019,0.80550077635912298,0.79836025041290437,0.79586007733921449,"-60°（南東）","南東","北東","南西","北西",-60,"12-2月",0.9]
["PM060MW4_325",325,1,"秋田（秋田）",60.963888888888889,96.188888888888883,107.17222222222222,170.61666666666667,133.24444444444444,142.74722222222221,157.74722222222221,165.41111111111113,117.45833333333334,102.36944444444444,59.483333333333327,56.12222222222222,"15°",0.75318505038916861,0.75698080365531628,0.76792499480778931,0.78506225707871391,0.80696448527884646,0.83189698653981192,0.85834660231622051,0.88447974048836453,0.90875357273545443,0.92945714200943497,0.94532058192319479,0.9554696230949532,0.95885593346058373,0.95535292197838062,0.94555398415633996,0.92963713864686048,0.90889796564240011,0.88479226212257578,0.85859582842957882,0.83203742347670429,0.80695657333873982,0.78496533581240791,0.76790521495752273,0.7570539891013025,0.75318505038916861,"-45°（南東）","南東","北東","南西","北西",-45]
[null,null,null,"岩手（盛岡）",86.50555555555556,107.91666666666666,136.50277777777779,147.36666666666665,150.95277777777775,136.49444444444444,125.99444444444444,131.9361111111111,103.78611111111111,103.37222222222222,82.055555555555543,74.647222222222226,"20°",0.70765776903068844,0.71283019987538698,0.72789848980843219,0.75086685193793079,0.78001048332064127,0.81322282990317762,0.84790284137549077,0.88185099838794223,0.9131882151652112,0.94003738391700375,0.9606479878947316,0.97371257899577701,0.97807799194960099,0.97375213869631005,0.96089523602306326,0.94020353465924267,0.91324953270103748,0.8819400077141416,0.84790284137549077,0.81335139892991015,0.78049113368211798,0.75138903998496731,0.72814771592179051,0.71300228457270576,0.70765776903068844,"-30°（南東）","南東","北東","南西","北西",-30]
[null,null,null,"山形（山形）",78.716666666666669,101.15833333333333,119.69166666666666,137.90555555555554,152.8111111111111,129.93888888888887,141.9361111111111,144.75277777777777,113.44444444444443,106.44444444444444,77.088888888888889,61.902777777777771,"25°",0.66003184555892913,0.66695281516718918,0.6863153105930988,0.71525323153303733,0.75154727878709959,0.7920603681030135,0.83418551521564976,0.87542056906629218,0.91328513643151721,0.94579134235953832,0.97085241264723621,0.98641915480699816,0.99192586512120107,0.98663673315992995,0.9709038402579292,0.94575969459911191,0.91350073679942245,0.87556100600318454,0.83444265326911471,0.7926339837607429,0.75202199519349644,0.71587036286135319,0.68671486356848277,0.66714270172974788,0.66003184555892913,"-15°（南東）","南東","北東","南西","北西",-15]
[null,null,null,"宮城（仙台）",103.00833333333333,116.94166666666666,144.13888888888889,143.20555555555555,152.625,117.78888888888889,117.49166666666667,130.66944444444445,107.01111111111111,110.97222222222221,100.57499999999999,95.802777777777777,"30°",0.61217449783905131,0.62045829913067563,0.64423367915104879,0.67896314024902826,0.72166783697447412,0.76934123208687311,0.81812625478425127,0.86571261855547754,0.9091946633963981,0.94648759308892028,0.97550067745987168,0.99373572142058886,1,0.99393945387833416,0.97550661141495154,0.94667747965147908,0.90941421973435665,0.86559987340895828,0.81855349955000845,0.7698970458793627,0.72270825709849373,0.68008465775914073,0.64507234480234987,0.62118817560551065,0.61217449783905131,"0°（南）","真南","真東","真西","真北",0]
[null,null,null,"福島（郡山）",93.49166666666666,110.09444444444443,129.42222222222222,139.3472222222222,137.05277777777778,109.11388888888888,114.21944444444443,135.19444444444443,104.05277777777776,113.90833333333333,87.838888888888889,78.588888888888889,"45°",0.49171323173083581,0.49901990841929328,0.52566534471334048,0.57268600476694387,0.63058756045216735,0.69347561638958388,0.75665839209597185,0.81777021747945366,0.87328038926745322,0.92072236013173381,0.95829022974296085,0.98205374185317418,0.9901239207619198,0.98209725752376054,0.95842868869482656,0.921046749676105,0.87313995233056085,0.81807482717355828,0.75788474281249696,0.69508371821625314,0.63326773016328264,0.57583297894434937,0.52885385657630568,0.50163678260955569,0.49171323173083581,"15°（南西）","南西","南東","北西","北東",15]
[null,null,null,"新潟（新潟）",59.65,75.694444444444443,121.625,145.74444444444444,161.75833333333335,136.51944444444445,147.45277777777778,165.125,125.08055555555556,111.625,73.030555555555566,49.255555555555553,"60°",0.3953359113071514,0.40246259135818341,0.43081107276017921,0.48110727601792053,0.54417532859276252,0.61226152918022414,0.68059893386607062,0.7459654050418838,0.80443859839981013,0.85572775014093139,0.89550898499698361,0.92131179966967647,0.93031360952597586,0.92180827391136644,0.89588678013707435,0.85551610574307957,0.80514276106929872,0.74589815355097766,0.68185693234302214,0.61491796307101954,0.54774163559581857,0.48565664157922322,0.43567493794071976,0.40582912187354742,0.3953359113071514,"30°（南西）","南西","南東","北西","北東",30]
[null,null,null,"長野（飯田）",98.672222222222231,123.98888888888889,138.60555555555555,151.42777777777778,156.18888888888887,136.1611111111111,151.12222222222221,166.85555555555553,129.39444444444445,113.38055555555556,101.79444444444444,100.77222222222221,"75°",0.32242936120973564,0.33245378932481479,0.36283959530426357,0.408467753899103,0.46627238831802043,0.53029976363078934,0.59484537102054136,0.65666333705853852,0.71089177454926666,0.75791639057292337,0.79412142850078626,0.81716099809124443,0.82535183408661594,0.81774845964416054,0.79408384678527988,0.75688586037403693,0.71046650776853615,0.65595719640402317,0.59661962358944942,0.53330827885632903,0.4704340688140991,0.41282327692779364,0.36639205641213296,0.33388387249908519,0.32242936120973564,"45°（南西）","南西","南東","北西","北東",45]
[null,null,null,"富山（富山）",65.811111111111103,81.825000000000003,122.16666666666667,140.51388888888889,152.875,118.01388888888889,133.70555555555555,157.41388888888889,120.65277777777779,119.57222222222221,83.797222222222231,65.547222222222217,"90°",0.28424831624024605,0.29264486267838952,0.31523740765282404,0.35052663851334648,0.39747213513593704,0.45062454877216579,0.50485496424792065,0.55609862233342888,0.60031252163421123,0.63690524462729814,0.66406495702827528,0.68013806335486038,0.68525906658886593,0.68026465439656625,0.66311156824542838,0.63481253646909896,0.59874595749310178,0.55529951638266095,0.50569165191419496,0.45305747035494942,0.40046878245131684,0.35381207164261769,0.3171738549939177,0.29292375856714764,0.28424831624024605,"60°（南西）","南西","南東","北西","北東",60]
["年間発電量専用(1kW)",1000,1,"石川（金沢）",51.711111111111109,74.308333333333323,114.375,137.49166666666667,155.9111111111111,119.96111111111111,139.27777777777777,163.52500000000001,121.38333333333334,135.30555555555557,76.866666666666674,56.791666666666664,null,null,null,null,null,null,null,null,null,null,null,null,null,null,null,null,null,null,null,null,null,null,null,null,null,null,"75°（南西）","南西","南東","北西","北東",75]
["他社パネル(330W)",330,1,"福井（福井）",64.483333333333334,77.205555555555549,123.93055555555554,143.77500000000001,151.67222222222222,116.49999999999999,138.51388888888889,161.12777777777777,128.1888888888889,122.98888888888888,85.655555555555551,67.349999999999994,null,"※ロス率の計算にはNEDO標準気象・日射データ（METPV-3）の東京における日射量データ（1990年から2003年の平均年のデータを）使用（全天日射量より演算）",null,null,null,null,null,null,null,null,null,null,null,null,null,null,null,null,null,null,null,null,null,null,null,null,"90°（西）","真西","真南","真北","真東",90]
["他社パネル(300W)",300,1,"東京（東京）",120.81666666666666,119.13055555555556,131.38055555555556,142.29166666666666,136.39444444444445,108.30833333333334,131.52777777777777,122.53888888888888,99.955555555555549,101.15277777777777,91.055555555555557,99.794444444444437,null,"　真南・傾斜角30度を1として規格化"]
["他社パネル(290W)",290,1,"神奈川（海老名）",107.43888888888888,111.92222222222222,125.2,121.1,126.68333333333334,92.213888888888889,123.125,136.74722222222223,110.06944444444444,105.62222222222222,96.466666666666654,108.11944444444444]
["他社パネル(280W)",280,1,"茨城（水戸）",104.2,110.27500000000001,132.16666666666666,131.98611111111111,138.69444444444446,123.93611111111112,136.20277777777778,158.65833333333333,116.58055555555555,102.57777777777777,94.011111111111106,110.49722222222222]
["他社パネル(270W)",270,1,"栃木（宇都宮）",122.95833333333333,128.4638888888889,149.1527777777778,143.4638888888889,138.42777777777778,111.60555555555554,121.85555555555555,135.38333333333333,100.47499999999999,115.55277777777778,100.56666666666666,117.13611111111111]
[null,null,null,"群馬（前橋）",128.35555555555555,130.16944444444445,156.33055555555555,147.19722222222222,149.57777777777778,118.13888888888889,131.04722222222222,139.78888888888889,109.31666666666666,111.40277777777777,115.44444444444444,119.35000000000001]
[null,null,null,"埼玉（さいたま）",111.49999999999999,120.41666666666666,144.53055555555554,131.15277777777777,130.4361111111111,109.28888888888889,120.38611111111111,136.13055555555556,117.35833333333333,112.53888888888888,101.08333333333333,105.00555555555555]
[null,null,null,"千葉（千葉）",102.25555555555556,106.18055555555556,110.70277777777777,141.38888888888889,147.29722222222222,114.09722222222221,151.73055555555555,160.08055555555555,117.00833333333334,104.825,98.275000000000006,105.46111111111111]
[null,null,null,"山梨（甲府）",134.35277777777779,141.02222222222221,158.23611111111111,153.37777777777777,147.88888888888889,127.80833333333334,150.05833333333334,160.78888888888889,122.69166666666666,115.40833333333333,112.67777777777778,121.41666666666667]
[null,null,null,"静岡（静岡）",145.67222222222222,133.55277777777778,146.25,154.19999999999999,142.21944444444443,123.64444444444445,145.34722222222223,165.06666666666666,135.25555555555556,118.48888888888888,110.13888888888889,125.71666666666665]
[null,null,null,"岐阜（美濃）",90.74722222222222,111.06944444444444,128.19166666666666,135.49444444444444,130.89166666666665,105.78888888888888,126.25555555555555,138.90833333333333,119.2,114.98888888888888,97.174999999999997,88.894444444444431]
[null,null,null,"愛知（岡崎）",100.75277777777777,107.2,143.2138888888889,141.73888888888888,129.49166666666667,100.5,123.07777777777777,147.48888888888891,116.44444444444444,119.22777777777779,104.66388888888889,99.12777777777778]
[null,null,null,"三重（津）",96.697222222222223,107.37777777777778,128.07499999999999,150.9638888888889,151.20277777777778,135.91666666666666,155.27500000000001,171.99166666666665,129.125,115.49166666666666,101.63611111111111,95]
[null,null,null,"大阪（大阪）",86.769444444444446,99.847222222222214,135.03333333333333,133.03055555555557,138.27500000000001,112.53333333333333,143.79444444444442,152.74722222222221,119.07777777777778,112.47222222222221,93.48055555555554,96.958333333333329]
[null,null,null,"滋賀（彦根）",75.694444444444443,95.902777777777771,115.52777777777777,136.17777777777778,143.69722222222219,117.46388888888889,142.71111111111111,156.76111111111112,128.10833333333332,123.09166666666667,92.3888888888889,81.797222222222231]
[null,null,null,"奈良（奈良）",84.613888888888894,88.952777777777783,130.48611111111111,133.57222222222222,138.71388888888887,132.01388888888889,137.83611111111111,152.06388888888887,130.8111111111111,116.00277777777778,96.708333333333329,88.830555555555563]
[null,null,null,"和歌山（白浜）",101.39722222222221,107.95555555555555,139.43055555555554,140.33333333333331,131.98888888888888,112.67222222222222,146.21388888888887,159.02222222222221,133.56666666666666,134.39722222222221,104.22222222222221,103.65833333333333]
[null,null,null,"京都（京都）",81.655555555555551,94.208333333333329,124.75833333333333,131.69444444444446,138.1888888888889,109.6,140.70277777777775,160.6611111111111,120.71944444444443,114.79166666666666,91.455555555555563,85.205555555555563]
[null,null,null,"兵庫（姫路）",87.563888888888897,94.691666666666663,121.49722222222222,145.03055555555557,148.33333333333334,126.21111111111111,160.18888888888887,168.87777777777779,132.1888888888889,126.33611111111111,98.847222222222229,92.672222222222217]
[null,null,null,"岡山（岡山）",89.419444444444451,107.13055555555556,122.18888888888888,139.03888888888889,156.18333333333334,128.66388888888889,151.4361111111111,158.86388888888888,125.82222222222221,122.68888888888888,97.469444444444434,94.575000000000003]
[null,null,null,"鳥取（鳥取）",55.219444444444441,72.48888888888888,108.54444444444444,140.32777777777778,156.75833333333335,124.83055555555555,143.48888888888888,153.65277777777777,111.51944444444445,112.89444444444445,77.11666666666666,60.408333333333331]
[null,null,null,"広島（広島）",96.577777777777783,104.28888888888889,137.19166666666666,141.60277777777776,153.64166666666668,127.54444444444445,144.99166666666667,153.72777777777776,139.87777777777777,140.09166666666667,106.49722222222222,105.2861111111111]
[null,null,null,"島根（松江）",60.013888888888893,72.87777777777778,110.71666666666665,138.26388888888889,147.26111111111109,129.57500000000002,155.63611111111109,153.25833333333333,119.64166666666665,121.72499999999999,82.552777777777777,60.916666666666671]
[null,null,null,"山口（山口）",81.966666666666654,93.097222222222214,118.75833333333333,142.37222222222221,150.63888888888889,116.40833333333333,144.96666666666667,161.15833333333333,130.5361111111111,124.09444444444445,98.48055555555554,83.924999999999997]
[null,null,null,"香川（高松）",95.3,99.338888888888889,140.28055555555554,136.92777777777778,156.08333333333331,132.10555555555555,157.84166666666667,166.6888888888889,128.20555555555555,124.93888888888888,102.51388888888889,104.22222222222221]
[null,null,null,"徳島（徳島）",96.308333333333323,101.86666666666667,125.13055555555556,143.92222222222222,156.24166666666667,129.72222222222223,161.60833333333332,172.68055555555554,125.79444444444445,118.14166666666667,98.602777777777789,99.802777777777777]
[null,null,null,"愛媛（松山）",101.65277777777777,112.57777777777777,146.36111111111111,144.03333333333333,140.5361111111111,126.51388888888889,153.89444444444445,166.09722222222223,135.625,130.6861111111111,99.461111111111109,93.544444444444437]
[null,null,null,"高知（須崎）",108.19444444444444,117.54722222222222,141.1861111111111,130.49166666666665,127.72499999999999,102.1,135.1888888888889,139.36666666666667,130.88611111111112,129.69444444444443,107.35555555555555,106.78888888888889]
[null,null,null,"福岡（飯塚）",73.938888888888883,88.641666666666666,120.05,142.76388888888889,153.92222222222222,125.69166666666666,142.61666666666665,153.21944444444446,135.95277777777778,129.29444444444442,94.094444444444449,82.161111111111097]
[null,null,null,"佐賀（佐賀）",92.338888888888889,103.71111111111099,131.69166666666666,138.31666666666666,128.92499999999998,108.29444444444445,134.58055555555555,155.84166666666667,133.14166666666665,128.31944444444443,107.22499999999999,94.191666666666663]
[null,null,null,"長崎（長崎）",86.808333333333323,103.33055555555555,127.32222222222222,140.92777777777778,142.60277777777779,113.48055555555554,149.32500000000002,158.1861111111111,140.64722222222221,131.9111111111111,99.302777777777777,89.525000000000006]
[null,null,null,"大分（大分）",103.69722222222222,99.666666666666671,121.33888888888889,133.0611111111111,138.96388888888887,118.21666666666665,138.65277777777777,150.39166666666665,124.41944444444445,127.14166666666665,108.86388888888889,105.925]
[null,null,null,"熊本（熊本）",98.052777777777777,107.98333333333333,124.4861111111111,136.29722222222222,141.21388888888887,111.76111111111111,147.59166666666667,158.4111111111111,139.93888888888887,128.23055555555555,112.35277777777779,101.77777777777777]
[null,null,null,"宮崎（宮崎）",133.95277777777778,125.70555555555556,132.09166666666667,140.98888888888888,136.61944444444444,111.92777777777778,146.31944444444443,154.55833333333331,134.93888888888887,134.10555555555555,123.95,126.03333333333333]
[null,null,null,"鹿児島（鹿児島）",106.45277777777778,114.66388888888889,134.75277777777777,141.50833333333333,139.22499999999999,107.5,148.91388888888889,157.40833333333333,156.46944444444443,140.86388888888888,116.625,106.73611111111111]
[null,null,null,"出展：(独)新エネルギー・産業技術総合開発機構（NEDO）／標準気象・日射データ(METPV-3)の日射量データ（1990年～2003年の平均年の月データ）"]
[null,null,null,"単位：kWh/kWp"]

{"sheet":"改訂履歴","index":3,"n_rows":53,"n_cols":4,"rows_kept":53,"cut":false,"hidden":false,"merged":[]}
["改定履歴",null,null,"Pass　123456"]
[]
["更新日付","バーション","担当者","改定理由・改定部分"]
["2016-03-15","beta1.0.2","SIS矢部","余剰契約、単価設定追加、パネル250W，255W，260W，265W種目削除"]
["2016-04-18","beta1.0.3","SIS矢部","パネル劣化率修正"]
["2016-04-19","beta1.0.4","SIS矢部","パネル劣化率計算式削除、マクロ有効ブック形式に変更"]
["2016-05-10","beta1.0.5","SIS矢部","売電単価入力文言を改定"]
["2016-05-16","beta1.0.6","SIS矢部","家庭内消費電力を変更　昼間在宅1800→2000、昼間不在600→800、予想売電量欄を追加"]
["2016-05-16","beta1.0.6","SIS矢部","自己消費バランス9月8%→6%へ12月10%→12%"]
["2016-05-19",1.1000000000000001,"SIS矢部","正式リリースバーション1.1に改定"]
["2016-08-10","1.2","SIS矢部","PM060シリーズ265,280,300追加、PM250M01_270削除"]
["2016-08-10","1.2","SIS矢部","消費税10%項削除"]
["2016-09-13","1.3","SIS矢部","SolarWorld社製両面ガラスパネル2種追加"]
["2016-10-21","1.4","SIS矢部","H29年度予想価格入力、テルサンソーラー追加"]
["2016-10-21","1.4_SG","SIS矢部","1.4から派生、SG専用シート作成"]
["2016-11-17","1.5","SIS矢部","地域選択で福島(郡山)が表示されない不具合を修正、yield算出専用(1kW)追加"]
["2016-11-17","1.5_SG","SIS矢部","1.5から派生、SG専用シート作成"]
["2016-12-02","1.6","SIS矢部","他社パネル用として260Wから300Wまで作成"]
["2016-12-19","1.7","SIS矢部","平成29年度委員長案売電単価入力"]
["2016-12-19","1.7_SG","SIS矢部","1.7から派生、SG専用シート作成"]
["2017-03-27","1.8","SIS矢部","平成27年度単価削除、平成29年度確定単価追加、"]
["2017-03-27","1.8","SIS矢部","平成30年度～31年度10kW未満H28年発表委員長案単価追加"]
["2017-03-27","1.8","SIS矢部","平成30年度～31年度10kW以上予想単価追加"]
["2017-03-27","1.8","SIS矢部","起動期限を2017年8月31日まで延長"]
["2017-08-31","1.9.0","SIS矢部","起動期限を2017年11月30日まで延長"]
["2017-08-31","1.9.0","SIS矢部","SolarWorld製モジュール型番削除"]
["2017-08-31","1.9.0","SIS矢部","月間発電量及び買電量を年間表記に統合。全量余剰の数式修正。"]
["2017-09-25","1.9.1","SIS矢部","PM096B00_327をPM096BW0_327に修正。"]
["2017-12-01","1.9.2","SIS矢部","起動期限を2018年3月31日まで延長"]
["2017-12-01","1.9.2","SIS矢部","H30年度予想価格19→18に変更、H31年度予想単価18→16に変更。"]
["2018-04-04","1.9.3","SIS矢部","H.３０年度確定単価に変更。起動期限を8/31に延長"]
["2018-04-04","1.9.3","SIS矢部","LONGi社製単結晶パネル「LR6-60-285M」を追加。他社比較パネル(260W)他、取り扱い終了型番を削除"]
["2018-04-24","1.9.4","SIS矢部","シュミレート(メンテ費用有リ)のシステム容量計算の間違いを修正"]
["2018-09-03","1.9.5","SIS矢部","起動期限を2019年1月11日まで延長"]
["2018-11-08","1.9.6","SIS矢部","基礎データ入力のNEDOの計算単位表記をkWh/m2→kWh/kWpに修正"]
["2018-11-08","1.9.6","SIS矢部","自家消費の計算を「差額×自家消費量」から「買電単価×自家消費量」に変更"]
["2018-11-08","1.9.6","SIS矢部","PM250M01_280、PM060PW1_265、他社比較(265W)の3機種を削除"]
["2018-11-08","1.9.6","SIS矢部","LR6-60PE-310M、SPR-X21-345-IEC、PM060MW4_325の3機種を追加"]
["2018-11-08","1.9.6","SIS矢部","買電金額を手入力可能に変更"]
["2018-11-08","1.9.6","SIS矢部","起動期限を2019年4月11日まで延長"]
["2019-01-15","2.0.0","SIS矢部","起動期限を2019年6月30日まで延長、材工の考え方に足場を追記、14円+消費税10%を委員長案で変更。"]
["2019-04-04","2.1.0","SIS矢部","委員長案を正式価格に変更。2016年度の売電単価を削除。"]
["2019-04-04","2.1.0","SIS矢部","元号表記を西暦表記に変更。"]
["2019-04-04","2.1.0","SIS矢部","PM250M01_280、SPR-E20-327、PM096BW0_327の3機種を削除"]
["2019-04-04","2.1.0","SIS矢部","SPR-X22-360の1機種を追加"]
["2019-04-04","2.1.0","SIS矢部","起動期限を2019年8月31日まで延長"]
["2019-08-30","2.2.0","SIS矢部","起動期限を2019年12月31日まで延長"]
["2019-10-15","2.3.0","SIS矢部","2017年度単価削除、2020年予想単価追加。テルサンソーラーパネル削除。"]
["2019-10-25","2.3.1","SIS矢部","「SPR-MAX3-400,LR6-60HPH-320M」を追加 「LR6-60-285M,PM060PW1_270,PM096B00_330」を削除"]
["2020-01-17","2.3.2","SIS矢部","起動期限を2020年3月31日まで延長"]
["2020-01-31","2.3.2","SIS矢部","「SPR-MAX3-400,PM060PW1_280,PM060PW1_270,PM060MW3_300,SPR-X21-345-IEC」を削除"]
["202/2/21","2.4.0","SIS矢部","2020年度売電価格(委員長案)に更新、昼間電気代を変更"]
["202/2/21","2.4.0","SIS矢部","起動期限を2020年5月31日まで延長"]